BEGIN:VCALENDAR
VERSION:2.0
PRODID:-//Seelenheilung-Ullrich.de - ECPv6.1.3//NONSGML v1.0//EN
CALSCALE:GREGORIAN
METHOD:PUBLISH
X-WR-CALNAME:Seelenheilung-Ullrich.de
X-ORIGINAL-URL:https://seelenheilung-ullrich.de
X-WR-CALDESC:Veranstaltungen für Seelenheilung-Ullrich.de
REFRESH-INTERVAL;VALUE=DURATION:PT1H
X-Robots-Tag:noindex
X-PUBLISHED-TTL:PT1H
BEGIN:VTIMEZONE
TZID:Europe/Berlin
BEGIN:DAYLIGHT
TZOFFSETFROM:+0100
TZOFFSETTO:+0200
TZNAME:CEST
DTSTART:20220327T010000
END:DAYLIGHT
BEGIN:STANDARD
TZOFFSETFROM:+0200
TZOFFSETTO:+0100
TZNAME:CET
DTSTART:20221030T010000
END:STANDARD
END:VTIMEZONE
BEGIN:VEVENT
DTSTART;TZID=Europe/Berlin:20220509T110000
DTEND;TZID=Europe/Berlin:20220511T180000
DTSTAMP:20260425T223744
CREATED:20220409T132957Z
LAST-MODIFIED:20220426T171033Z
UID:597-1652094000-1652292000@seelenheilung-ullrich.de
SUMMARY:Einzelsitzungen mit Gail Riding
DESCRIPTION:Wir begrüßen das Englische Medium Gail Riding nach langer Pause wieder in Berlin. \nGail bietet Jenseitskontakte\, Lebensberatung\, Heilenergie\, Kontakte zum Geistführer und vieles mehr an. Gail ist ein ausgezeichnetes Medium\, das in der Vergangenheit sehr erfolgreich ihre Gaben unter Beweis stellen konnte. Die Demonstration ihrer Fähigkeiten und die Sitzungen waren für viele Menschen der Beweis\, dass unsere Lieben weiter mit uns sind. \nErfahren Sie den Kontakt zur Jenseitigen Welt mit dem ausgezeichneten Medium Gail Riding\, Einzelsitzungen sind in der Zeit vom 09. Mai 2022 – 11. Mai 2022 verfügbar. \nIhre Sitzung wird bei Bedarf übersetzt. \nPreis: \n\n			\n				\n				\n				\n				\n				\n					\n						\n						\n					\n					\n					Tickets kaufen\n						14 Tickets verbleibend. \n						Eintrittskarte200\,00 € \n						In den Warenkorb
URL:https://seelenheilung-ullrich.de/kalender/einzelsitzungen-mit-gail-riding/
LOCATION:Seelenheilung-Ullrich\, Tamseler Strasse 13\, Berlin\, 13053\, Deutschland
END:VEVENT
END:VCALENDAR