BEGIN:VCALENDAR
VERSION:2.0
PRODID:-//Seelenheilung-Ullrich.de - ECPv6.1.3//NONSGML v1.0//EN
CALSCALE:GREGORIAN
METHOD:PUBLISH
X-WR-CALNAME:Seelenheilung-Ullrich.de
X-ORIGINAL-URL:https://seelenheilung-ullrich.de
X-WR-CALDESC:Veranstaltungen für Seelenheilung-Ullrich.de
REFRESH-INTERVAL;VALUE=DURATION:PT1H
X-Robots-Tag:noindex
X-PUBLISHED-TTL:PT1H
BEGIN:VTIMEZONE
TZID:Europe/Berlin
BEGIN:DAYLIGHT
TZOFFSETFROM:+0100
TZOFFSETTO:+0200
TZNAME:CEST
DTSTART:20220327T010000
END:DAYLIGHT
BEGIN:STANDARD
TZOFFSETFROM:+0200
TZOFFSETTO:+0100
TZNAME:CET
DTSTART:20221030T010000
END:STANDARD
END:VTIMEZONE
BEGIN:VEVENT
DTSTART;TZID=Europe/Berlin:20220701T190000
DTEND;TZID=Europe/Berlin:20220701T210000
DTSTAMP:20260425T184319
CREATED:20220407T165905Z
LAST-MODIFIED:20220625T115613Z
UID:559-1656702000-1656709200@seelenheilung-ullrich.de
SUMMARY:Sue Odam medialer Abend
DESCRIPTION:Erfahren Sie den Kontakt zur Jenseitigen Welt mit dem ausgezeichneten Medium Sue Odam am 01. Juli 2022\, 19.00 Uhr\, im Aquariana in Berlin: Demonstration der Fähigkeiten und Jenseitskontakte\, Preis 20 Euro. \n\n			\n				\n				\n				\n				\n				\n					\n						\n						\n					\n					\n					Tickets kaufen\n						14 Tickets verbleibend. \n						Eintrittskarte200\,00 € \n						In den Warenkorb
URL:https://seelenheilung-ullrich.de/kalender/sue-odam-medialer-abend/
LOCATION:Aquariana in Berlin\, Am Tempelhofer Berg 7 D\, Berlin Kreuzberg\, 10965
ORGANIZER;CN="Seelenheilung%20Eva%20Ullrich":MAILTO:em.ullrich@web.de
END:VEVENT
END:VCALENDAR