BEGIN:VCALENDAR
VERSION:2.0
PRODID:-//Seelenheilung-Ullrich.de - ECPv6.1.3//NONSGML v1.0//EN
CALSCALE:GREGORIAN
METHOD:PUBLISH
X-ORIGINAL-URL:https://seelenheilung-ullrich.de
X-WR-CALDESC:Veranstaltungen für Seelenheilung-Ullrich.de
REFRESH-INTERVAL;VALUE=DURATION:PT1H
X-Robots-Tag:noindex
X-PUBLISHED-TTL:PT1H
BEGIN:VTIMEZONE
TZID:Europe/Berlin
BEGIN:DAYLIGHT
TZOFFSETFROM:+0100
TZOFFSETTO:+0200
TZNAME:CEST
DTSTART:20220327T010000
END:DAYLIGHT
BEGIN:STANDARD
TZOFFSETFROM:+0200
TZOFFSETTO:+0100
TZNAME:CET
DTSTART:20221030T010000
END:STANDARD
END:VTIMEZONE
BEGIN:VEVENT
DTSTART;TZID=Europe/Berlin:20221118T190000
DTEND;TZID=Europe/Berlin:20221118T210000
DTSTAMP:20260425T121851
CREATED:20220914T165917Z
LAST-MODIFIED:20221106T122128Z
UID:841-1668798000-1668805200@seelenheilung-ullrich.de
SUMMARY:Medialer Abend mit dem Englischen Medium Billy Cook (mit Übersetzung)
DESCRIPTION:Diese Veranstaltung ist leider ausgebucht. \n\n			\n				\n				\n				\n				\n				\n					\n						\n						\n					\n					\n					Tickets kaufen\n						14 Tickets verbleibend. \n						Eintrittskarte200\,00 € \n						In den Warenkorb
URL:https://seelenheilung-ullrich.de/kalender/medialer-abend-mit-dem-englischen-medium-billy-cook/
LOCATION:Aquariana in Berlin\, Am Tempelhofer Berg 7 D\, Berlin Kreuzberg\, 10965
ORGANIZER;CN="Seelenheilung%20Eva%20Ullrich":MAILTO:em.ullrich@web.de
END:VEVENT
END:VCALENDAR