BEGIN:VCALENDAR
VERSION:2.0
PRODID:-//Seelenheilung-Ullrich.de - ECPv6.1.3//NONSGML v1.0//EN
CALSCALE:GREGORIAN
METHOD:PUBLISH
X-ORIGINAL-URL:https://seelenheilung-ullrich.de
X-WR-CALDESC:Veranstaltungen für Seelenheilung-Ullrich.de
REFRESH-INTERVAL;VALUE=DURATION:PT1H
X-Robots-Tag:noindex
X-PUBLISHED-TTL:PT1H
BEGIN:VTIMEZONE
TZID:Europe/Berlin
BEGIN:DAYLIGHT
TZOFFSETFROM:+0100
TZOFFSETTO:+0200
TZNAME:CEST
DTSTART:20220327T010000
END:DAYLIGHT
BEGIN:STANDARD
TZOFFSETFROM:+0200
TZOFFSETTO:+0100
TZNAME:CET
DTSTART:20221030T010000
END:STANDARD
END:VTIMEZONE
BEGIN:VEVENT
DTSTART;TZID=Europe/Berlin:20221007T190000
DTEND;TZID=Europe/Berlin:20221007T210000
DTSTAMP:20260425T121927
CREATED:20220912T092347Z
LAST-MODIFIED:20220912T092347Z
UID:823-1665169200-1665176400@seelenheilung-ullrich.de
SUMMARY:Medialer Abend (Jenseitskontakte) mit Eva Ullrich am 07. Oktober 2022 im Aquariana
DESCRIPTION:Im Rahmen eines medialen Abends stelle ich den Kontakt zu Ihren Lieben her\,  \nso dass Sie verstehen\, dass Ihre Lieben immer noch an Ihrem Leben teilhaben.  \nIch übermittle Nachrichten und Beweise Ihrer Lieben aus der Jenseitigen Welt. \nDer Eisbrocken in uns kann sich lösen\, wenn wir erfahren\, dass es unseren Lieben gut geht. Diese Veranstaltung ist von Liebe und Verständnis geprägt. \nDatum: 07.Oktober 2022 um 19.00 Uhr \nVeranstaltungsort: Aquariana in Berlin\nAm Tempelhofer Berg 7D\nBerlin 10965 \n  \n  \n\n			\n				\n				\n				\n				\n				\n					\n						\n						\n					\n					\n					Tickets kaufen\n						14 Tickets verbleibend. \n						Eintrittskarte200\,00 € \n						In den Warenkorb
URL:https://seelenheilung-ullrich.de/kalender/medialer-abend-jenseitskontakte-mit-eva-ullrich-am-07-oktober-2022-im-aquariana/
LOCATION:Aquariana in Berlin\, Am Tempelhofer Berg 7 D\, Berlin Kreuzberg\, 10965
ORGANIZER;CN="Seelenheilung%20Eva%20Ullrich":MAILTO:em.ullrich@web.de
END:VEVENT
BEGIN:VEVENT
DTSTART;TZID=Europe/Berlin:20221008T100000
DTEND;TZID=Europe/Berlin:20221009T170000
DTSTAMP:20260425T121927
CREATED:20220914T164513Z
LAST-MODIFIED:20220930T151322Z
UID:839-1665223200-1665334800@seelenheilung-ullrich.de
SUMMARY:Workshop "Medialiät und Trance" mit Medium Eva Ullrich
DESCRIPTION:Ich lade Sie am 08. und 09. Oktober 2022  zum medialen Workshop „Medialität und Trance“ ins Aquariana ein. Nehmen Sie mit der Geistigen Welt Kontakt auf oder bringen Sie Ihre Medialität auf ein höheres Level\, in dem Sie unter meiner Anleitung Ihre Hellsinne weiter ausbilden. Lernen Sie Ihre Medialität nach der Englischen Schule zu entwickeln und erhöhen Sie Ihr Vertrauen in die Geistige Welt. Ich habe in vielen Jahren im In- und Ausland meine Medialität entwickelt und werde Sie als spirituelle Lehrerin gut anleiten. \n  \n\n			\n				\n				\n				\n				\n				\n					\n						\n						\n					\n					\n					Tickets kaufen\n						14 Tickets verbleibend. \n						Eintrittskarte200\,00 € \n						In den Warenkorb
URL:https://seelenheilung-ullrich.de/kalender/workshop-medialiaet-und-trance-mit-medium-eva-ullrich/
LOCATION:Aquariana in Berlin\, Am Tempelhofer Berg 7 D\, Berlin Kreuzberg\, 10965
ORGANIZER;CN="Seelenheilung%20Eva%20Ullrich":MAILTO:em.ullrich@web.de
END:VEVENT
END:VCALENDAR